BEGIN:VCALENDAR
VERSION:2.0
CALSCALE:GREGORIAN
PRODID:-//Diputació de Barcelona//DibaCMS//EN
BEGIN:VEVENT
UID:54283
DTSTAMP:20260426T001208
DTSTART:20190305T200000
DTEND:20190305T200000
SUMMARY:SETMANA DE LA DONA CREADORA AL TA - Entrega del primer premi de dramatúrgia teatral 
LOCATION:Ronda Sant Antoni, 19 08450 Llinars del Vallès
METHOD:PUBLISH
X-WR-CALNAME:info@llinarsdelvalles.cat
X-WR-TIMEZONE:Europe/Madrid
DESCRIPTION:
URI:https://www.llinarsdelvalles.cat/actualitat/agenda/setmana-de-la-dona-creadora-al-ta-entrega-del-primer-premi-de-dramaturgia-teatral-.html
CLASS:PUBLIC
END:VEVENT
END:VCALENDAR
