BEGIN:VCALENDAR
VERSION:2.0
CALSCALE:GREGORIAN
PRODID:-//Diputació de Barcelona//DibaCMS//EN
BEGIN:VEVENT
UID:54284
DTSTAMP:20260425T201241
DTSTART:20190306T200000
DTEND:20190306T200000
SUMMARY:SETMANA DE LA DONA CREADORA AL TA - Dansa contemporània - Ballant ballàvem
LOCATION:Ronda Sant Antoni, 19 08450 Llinars del Vallès
METHOD:PUBLISH
X-WR-CALNAME:info@llinarsdelvalles.cat
X-WR-TIMEZONE:Europe/Madrid
DESCRIPTION:
URI:https://www.llinarsdelvalles.cat/actualitat/agenda/setmana-de-la-dona-creadora-al-ta-dansa-contemporania-ballant-ballavem.html
CLASS:PUBLIC
END:VEVENT
END:VCALENDAR
