BEGIN:VCALENDAR
VERSION:2.0
CALSCALE:GREGORIAN
PRODID:-//Diputació de Barcelona//DibaCMS//EN
BEGIN:VEVENT
UID:54286
DTSTAMP:20260423T050823
DTSTART:20190309T220000
DTEND:20190309T220000
SUMMARY:SETMANA DE LA DONA CREADORA AL TA - Música - Paula Valls
LOCATION:Ronda Sant Antoni, 19 08450 Llinars del Vallès
METHOD:PUBLISH
X-WR-CALNAME:info@llinarsdelvalles.cat
X-WR-TIMEZONE:Europe/Madrid
DESCRIPTION:
URI:https://www.llinarsdelvalles.cat/actualitat/agenda/setmana-de-la-dona-creadora-al-ta-musica-paula-valls.html
CLASS:PUBLIC
END:VEVENT
END:VCALENDAR
