BEGIN:VCALENDAR
VERSION:2.0
CALSCALE:GREGORIAN
PRODID:-//Diputació de Barcelona//DibaCMS//EN
BEGIN:VEVENT
UID:54288
DTSTAMP:20260423T022058
DTSTART:20190316T200000
DTEND:20190316T200000
SUMMARY:TEATRE AL TA - La niña gorda
LOCATION:Ronda Sant Antoni, 19 08450 Llinars del Vallès
METHOD:PUBLISH
X-WR-CALNAME:info@llinarsdelvalles.cat
X-WR-TIMEZONE:Europe/Madrid
DESCRIPTION:
URI:https://www.llinarsdelvalles.cat/actualitat/agenda/teatre-al-ta-la-nina-gorda.html
CLASS:PUBLIC
END:VEVENT
END:VCALENDAR
