BEGIN:VCALENDAR
VERSION:2.0
CALSCALE:GREGORIAN
PRODID:-//Diputació de Barcelona//DibaCMS//EN
BEGIN:VEVENT
UID:54290
DTSTAMP:20260423T005442
DTSTART:20190323T200000
DTEND:20190323T200000
SUMMARY:TEATRE I MÚSICA AL TA - Papa Mozart
LOCATION:Ronda Sant Antoni, 19 08450 Llinars del Vallès
METHOD:PUBLISH
X-WR-CALNAME:info@llinarsdelvalles.cat
X-WR-TIMEZONE:Europe/Madrid
DESCRIPTION:
URI:https://www.llinarsdelvalles.cat/actualitat/agenda/teatre-i-musica-al-ta-papa-mozart.html
CLASS:PUBLIC
END:VEVENT
END:VCALENDAR
