BEGIN:VCALENDAR
VERSION:2.0
CALSCALE:GREGORIAN
PRODID:-//Diputació de Barcelona//DibaCMS//EN
BEGIN:VEVENT
UID:54291
DTSTAMP:20260423T005553
DTSTART:20190331T190000
DTEND:20190331T190000
SUMMARY:MÚSICA CLÀSSICA AL TA - Les quatre estacions de Vivaldi
LOCATION:Ronda Sant Antoni, 19 08450 Llinars del Vallès
METHOD:PUBLISH
X-WR-CALNAME:info@llinarsdelvalles.cat
X-WR-TIMEZONE:Europe/Madrid
DESCRIPTION:
URI:https://www.llinarsdelvalles.cat/actualitat/agenda/musica-classica-al-ta-les-quatre-estacions-de-vivaldi.html
CLASS:PUBLIC
END:VEVENT
END:VCALENDAR
