BEGIN:VCALENDAR
VERSION:2.0
CALSCALE:GREGORIAN
PRODID:-//Diputació de Barcelona//DibaCMS//EN
BEGIN:VEVENT
UID:54292
DTSTAMP:20260425T192950
DTSTART:20190406T170000
DTEND:20190414T170000
SUMMARY:TEATRE AL TA - Veniu a mi. La Passió de Llinars del Vallès
LOCATION:Ronda Sant Antoni, 19 08450 Llinars del Vallès
METHOD:PUBLISH
X-WR-CALNAME:info@llinarsdelvalles.cat
X-WR-TIMEZONE:Europe/Madrid
DESCRIPTION:4 sessions:
Dissabte, 6 d'abril a les 17 h
Diumenge, 7 d'abril a les 17 h
Dissabte, 13 d'abril a les 17 h
Diumenge, 14 d'abril a les 17 h

URI:https://www.llinarsdelvalles.cat/actualitat/agenda/teatre-al-ta-veniu-a-mi-la-passio-de-llinars-del-valles.html
CLASS:PUBLIC
END:VEVENT
END:VCALENDAR
