BEGIN:VCALENDAR
VERSION:2.0
CALSCALE:GREGORIAN
PRODID:-//Diputació de Barcelona//DibaCMS//EN
BEGIN:VEVENT
UID:54296
DTSTAMP:20260423T023040
DTSTART:20190428T190000
DTEND:20190428T190000
SUMMARY:MÚSICA CLÀSSICA AL TA - Amb l'ànima del cant popular - música llatina de saló
LOCATION:Ronda Sant Antoni, 19 08450 Llinars del Vallès
METHOD:PUBLISH
X-WR-CALNAME:info@llinarsdelvalles.cat
X-WR-TIMEZONE:Europe/Madrid
DESCRIPTION:
URI:https://www.llinarsdelvalles.cat/actualitat/agenda/musica-classica-al-ta-amb-lanima-del-cant-popular-musica-llatina-de-salo.html
CLASS:PUBLIC
END:VEVENT
END:VCALENDAR
