BEGIN:VCALENDAR
VERSION:2.0
CALSCALE:GREGORIAN
PRODID:-//Diputació de Barcelona//DibaCMS//EN
BEGIN:VEVENT
UID:54299
DTSTAMP:20260423T051110
DTSTART:20190518T180000
DTEND:20190518T180000
SUMMARY:MÚSICA CLÀSSICA AL TA - Concerto a tempo d'umore - Orquestra simfònica de l'Empordà
LOCATION:Ronda Sant Antoni, 19 08450 Llinars del Vallès
METHOD:PUBLISH
X-WR-CALNAME:info@llinarsdelvalles.cat
X-WR-TIMEZONE:Europe/Madrid
DESCRIPTION:
URI:https://www.llinarsdelvalles.cat/actualitat/agenda/musica-classica-al-ta-concerto-a-tempo-dumore-orquestra-simfonica-de-lemporda.html
CLASS:PUBLIC
END:VEVENT
END:VCALENDAR
