BEGIN:VCALENDAR
VERSION:2.0
CALSCALE:GREGORIAN
PRODID:-//Diputació de Barcelona//DibaCMS//EN
BEGIN:VEVENT
UID:54300
DTSTAMP:20260423T004829
DTSTART:20190519T180000
DTEND:20190519T180000
SUMMARY:DANSA I ESPECTACLE TALLER AL TA - Labranza
LOCATION:Ronda Sant Antoni, 19 08450 Llinars del Vallès
METHOD:PUBLISH
X-WR-CALNAME:info@llinarsdelvalles.cat
X-WR-TIMEZONE:Europe/Madrid
DESCRIPTION:
URI:https://www.llinarsdelvalles.cat/actualitat/agenda/dansa-i-espectacle-taller-al-ta-labranza.html
CLASS:PUBLIC
END:VEVENT
END:VCALENDAR
