BEGIN:VCALENDAR
VERSION:2.0
CALSCALE:GREGORIAN
PRODID:-//Diputació de Barcelona//DibaCMS//EN
BEGIN:VEVENT
UID:54301
DTSTAMP:20260422T233255
DTSTART:20190525T200000
DTEND:20190525T200000
SUMMARY:TEATRE AL TA - Pel davant i pel darrera
LOCATION:Ronda Sant Antoni, 19 08450 Llinars del Vallès
METHOD:PUBLISH
X-WR-CALNAME:info@llinarsdelvalles.cat
X-WR-TIMEZONE:Europe/Madrid
DESCRIPTION:
URI:https://www.llinarsdelvalles.cat/actualitat/agenda/teatre-al-ta-pel-davant-i-pel-darrera.html
CLASS:PUBLIC
END:VEVENT
END:VCALENDAR
