BEGIN:VCALENDAR
VERSION:2.0
CALSCALE:GREGORIAN
PRODID:-//Diputació de Barcelona//DibaCMS//EN
BEGIN:VEVENT
UID:54307
DTSTAMP:20260425T160206
DTSTART:20181216T180000
DTEND:20181216T180000
SUMMARY:Relaxació amb Bols Tibetans, Bols de Quars i Gongs
LOCATION:Capella de Can Mas Bagà 
METHOD:PUBLISH
X-WR-CALNAME:info@llinarsdelvalles.cat
X-WR-TIMEZONE:Europe/Madrid
DESCRIPTION:A càrrec de Moulànima, grup de meditació i viatge sonor, i de Clau Màgica de Teatre

URI:https://www.llinarsdelvalles.cat/actualitat/agenda/relaxacio-amb-bols-tibetans-bols-de-quars-i-gongs.html
CLASS:PUBLIC
END:VEVENT
END:VCALENDAR
