BEGIN:VCALENDAR
VERSION:2.0
CALSCALE:GREGORIAN
PRODID:-//Diputació de Barcelona//DibaCMS//EN
BEGIN:VEVENT
UID:54308
DTSTAMP:20260425T132702
DTSTART:20181221T170000
DTEND:20181221T170000
SUMMARY:Celebrem el solstici d'hivern a Can Bordoi
LOCATION:Campus Can Bordoi 
Carretera B-510 Km.8 
METHOD:PUBLISH
X-WR-CALNAME:info@llinarsdelvalles.cat
X-WR-TIMEZONE:Europe/Madrid
DESCRIPTION:
URI:https://www.llinarsdelvalles.cat/actualitat/agenda/celebrem-el-solstici-dhivern-a-can-bordoi.html
CLASS:PUBLIC
END:VEVENT
END:VCALENDAR
