BEGIN:VCALENDAR
VERSION:2.0
CALSCALE:GREGORIAN
PRODID:-//Diputació de Barcelona//DibaCMS//EN
BEGIN:VEVENT
UID:54327
DTSTAMP:20260425T210710
DTSTART:20190117T193000
DTEND:20190117T193000
SUMMARY:XERRADA I DOCUMENTAL amb Sergi Mingote 
LOCATION:Av. Pau Casals, 26 08450 Llinars del Vallès
METHOD:PUBLISH
X-WR-CALNAME:info@llinarsdelvalles.cat
X-WR-TIMEZONE:Europe/Madrid
DESCRIPTION:K2 + Broad Peak + Manaslu. 72 dies al límit.

URI:https://www.llinarsdelvalles.cat/actualitat/agenda/xerrada-i-documental-amb-sergi-mingote-.html
CLASS:PUBLIC
END:VEVENT
END:VCALENDAR
