BEGIN:VCALENDAR
VERSION:2.0
CALSCALE:GREGORIAN
PRODID:-//Diputació de Barcelona//DibaCMS//EN
BEGIN:VEVENT
UID:54331
DTSTAMP:20260425T165855
DTSTART:20190128T180000
DTEND:20190128T180000
SUMMARY:Presentació del cartell de Veniu a mi. La Passió de Llinars 2019
LOCATION:Av. Pau Casals, 26 08450 Llinars del Vallès
METHOD:PUBLISH
X-WR-CALNAME:info@llinarsdelvalles.cat
X-WR-TIMEZONE:Europe/Madrid
DESCRIPTION:Presentació del cartell de La Passió de Llinars 2019 i de les galetes de la Passió creades per pastissers de Llinars 

URI:https://www.llinarsdelvalles.cat/actualitat/agenda/presentacio-del-cartell-de-veniu-a-mi-la-passio-de-llinars-2019.html
CLASS:PUBLIC
END:VEVENT
END:VCALENDAR
