BEGIN:VCALENDAR
VERSION:2.0
CALSCALE:GREGORIAN
PRODID:-//Diputació de Barcelona//DibaCMS//EN
BEGIN:VEVENT
UID:54338
DTSTAMP:20260425T172546
DTSTART:20190201T180000
DTEND:20190201T180000
SUMMARY:BIB-CREA “Fem flors” a càrrec de Rosa M. Pajuelo
LOCATION:Av. Pau Casals, 26 08450 Llinars del Vallès
METHOD:PUBLISH
X-WR-CALNAME:info@llinarsdelvalles.cat
X-WR-TIMEZONE:Europe/Madrid
DESCRIPTION:
URI:https://www.llinarsdelvalles.cat/actualitat/agenda/bib-crea-fem-flors-a-carrec-de-rosa-m-pajuelo.html
CLASS:PUBLIC
END:VEVENT
END:VCALENDAR
