BEGIN:VCALENDAR
VERSION:2.0
CALSCALE:GREGORIAN
PRODID:-//Diputació de Barcelona//DibaCMS//EN
BEGIN:VEVENT
UID:54343
DTSTAMP:20260425T132925
DTSTART:20190218T190000
DTEND:20190218T190000
SUMMARY:LLEGIR EL TEATRE “La bona persona” de Sezuan de B. Brecht a càrrec de Cristina Fernández
LOCATION:Av. Pau Casals, 26 08450 Llinars del Vallès
METHOD:PUBLISH
X-WR-CALNAME:info@llinarsdelvalles.cat
X-WR-TIMEZONE:Europe/Madrid
DESCRIPTION:
URI:https://www.llinarsdelvalles.cat/actualitat/agenda/llegir-el-teatre-la-bona-persona-de-sezuan-de-b-brecht-a-carrec-de-cristina-fernandez.html
CLASS:PUBLIC
END:VEVENT
END:VCALENDAR
