BEGIN:VCALENDAR
VERSION:2.0
CALSCALE:GREGORIAN
PRODID:-//Diputació de Barcelona//DibaCMS//EN
BEGIN:VEVENT
UID:54344
DTSTAMP:20260425T122037
DTSTART:20190222T180000
DTEND:20190222T180000
SUMMARY:L’HORA DEL CONTE  “L’abelleta  Pica-flor” a càrrec de la CIA. Patawa
LOCATION:Av. Pau Casals, 26 08450 Llinars del Vallès
METHOD:PUBLISH
X-WR-CALNAME:info@llinarsdelvalles.cat
X-WR-TIMEZONE:Europe/Madrid
DESCRIPTION:
URI:https://www.llinarsdelvalles.cat/actualitat/agenda/lhora-del-conte-labelleta-pica-flor-a-carrec-de-la-cia-patawa.html
CLASS:PUBLIC
END:VEVENT
END:VCALENDAR
