BEGIN:VCALENDAR
VERSION:2.0
CALSCALE:GREGORIAN
PRODID:-//Diputació de Barcelona//DibaCMS//EN
BEGIN:VEVENT
UID:54346
DTSTAMP:20260425T121902
DTSTART:20190223T110000
DTEND:20190223T110000
SUMMARY:Taller de Risoteràpia
LOCATION:C/ Josep Argila, 39 08450 Llinars del Vallés
METHOD:PUBLISH
X-WR-CALNAME:info@llinarsdelvalles.cat
X-WR-TIMEZONE:Europe/Madrid
DESCRIPTION:
URI:https://www.llinarsdelvalles.cat/actualitat/agenda/54346-taller-de-risoterapia.html
CLASS:PUBLIC
END:VEVENT
END:VCALENDAR
