BEGIN:VCALENDAR
VERSION:2.0
CALSCALE:GREGORIAN
PRODID:-//Diputació de Barcelona//DibaCMS//EN
BEGIN:VEVENT
UID:54347
DTSTAMP:20260425T134426
DTSTART:20190223T113000
DTEND:20190223T113000
SUMMARY:L’HORA DELS NADONS “Les 4 estacions del petitó” a càrrec de la CIA. Mima Teatre
LOCATION:
METHOD:PUBLISH
X-WR-CALNAME:info@llinarsdelvalles.cat
X-WR-TIMEZONE:Europe/Madrid
DESCRIPTION:
URI:https://www.llinarsdelvalles.cat/actualitat/agenda/lhora-dels-nadons-les-4-estacions-del-petito-a-carrec-de-la-cia-mima-teatre.html
CLASS:PUBLIC
END:VEVENT
END:VCALENDAR
