BEGIN:VCALENDAR
VERSION:2.0
CALSCALE:GREGORIAN
PRODID:-//Diputació de Barcelona//DibaCMS//EN
BEGIN:VEVENT
UID:54368
DTSTAMP:20260423T034956
DTSTART:20190311T153000
DTEND:20190311T163000
SUMMARY:CLUB DE LECTURA EN VEU ALTA a càrrec de Carme Pallarés
LOCATION:Av. Pau Casals, 26 08450 Llinars del Vallès
METHOD:PUBLISH
X-WR-CALNAME:info@llinarsdelvalles.cat
X-WR-TIMEZONE:Europe/Madrid
DESCRIPTION:Catedràtica de català d'ensenyament secundari

URI:https://www.llinarsdelvalles.cat/actualitat/agenda/54368-club-de-lectura-en-veu-alta-a-carrec-de-carme-pallares.html
CLASS:PUBLIC
END:VEVENT
END:VCALENDAR
