BEGIN:VCALENDAR
VERSION:2.0
CALSCALE:GREGORIAN
PRODID:-//Diputació de Barcelona//DibaCMS//EN
BEGIN:VEVENT
UID:54369
DTSTAMP:20260423T035231
DTSTART:20190318T153000
DTEND:20190318T163000
SUMMARY:CLUB DE LECTURA EN VEU ALTA a càrrec de Carme Pallarés
LOCATION:Av. Pau Casals, 26 08450 Llinars del Vallès
METHOD:PUBLISH
X-WR-CALNAME:info@llinarsdelvalles.cat
X-WR-TIMEZONE:Europe/Madrid
DESCRIPTION:Catedràtica de català d'ensenyament secundari

URI:https://www.llinarsdelvalles.cat/actualitat/agenda/54369-club-de-lectura-en-veu-alta-a-carrec-de-carme-pallares.html
CLASS:PUBLIC
END:VEVENT
END:VCALENDAR
