BEGIN:VCALENDAR
VERSION:2.0
CALSCALE:GREGORIAN
PRODID:-//Diputació de Barcelona//DibaCMS//EN
BEGIN:VEVENT
UID:54372
DTSTAMP:20260423T034945
DTSTART:20190312T173000
DTEND:20190312T183000
SUMMARY:EXPLORADORS DE CONTES a càrrec de Marta Romero i Fina Arqué 
LOCATION:
METHOD:PUBLISH
X-WR-CALNAME:info@llinarsdelvalles.cat
X-WR-TIMEZONE:Europe/Madrid
DESCRIPTION:Inscripció prèvia. Màxim 15 participants.
Infants de 6, 7 i 8 anys.

URI:https://www.llinarsdelvalles.cat/actualitat/agenda/54372-exploradors-de-contes-a-carrec-de-marta-romero-i-fina-arque-.html
CLASS:PUBLIC
END:VEVENT
END:VCALENDAR
