BEGIN:VCALENDAR
VERSION:2.0
CALSCALE:GREGORIAN
PRODID:-//Diputació de Barcelona//DibaCMS//EN
BEGIN:VEVENT
UID:54383
DTSTAMP:20260425T170135
DTSTART:20190317T120000
DTEND:20190317T120000
SUMMARY:Recital de violoncel i piano
LOCATION:Ronda Sant Antoni, 19 08450 Llinars del Vallès
METHOD:PUBLISH
X-WR-CALNAME:info@llinarsdelvalles.cat
X-WR-TIMEZONE:Europe/Madrid
DESCRIPTION:21è cicle de concerts a Sanata
Aquest concert tindrà lloc a la Sala Tallers del Teatre Auditori de Llinars del Vallès

URI:https://www.llinarsdelvalles.cat/actualitat/agenda/recital-de-violoncel-i-piano.html
CLASS:PUBLIC
END:VEVENT
END:VCALENDAR
