BEGIN:VCALENDAR
VERSION:2.0
CALSCALE:GREGORIAN
PRODID:-//Diputació de Barcelona//DibaCMS//EN
BEGIN:VEVENT
UID:54394
DTSTAMP:20260425T170155
DTSTART:20190202T120000
DTEND:20190303T140000
SUMMARY:EXPOSICIÓ a l'Espai Ruscalleda Art - "O espaço será pequeno" d'Albert Just 
LOCATION:Espai Ruscalleda Art
C/ Major, 32, 1r1a
Tef. 647 466 673 / 659 659 262 
METHOD:PUBLISH
X-WR-CALNAME:info@llinarsdelvalles.cat
X-WR-TIMEZONE:Europe/Madrid
DESCRIPTION:Amb aquest títol i autor, l'Espai Ruscalleda Art inaugura la temporada 2019.

URI:https://www.llinarsdelvalles.cat/actualitat/agenda/exposicio-a-lespai-ruscalleda-art-o-espaco-sera-pequeno-dalbert-just-.html
CLASS:PUBLIC
END:VEVENT
END:VCALENDAR
