BEGIN:VCALENDAR
VERSION:2.0
CALSCALE:GREGORIAN
PRODID:-//Diputació de Barcelona//DibaCMS//EN
BEGIN:VEVENT
UID:54400
DTSTAMP:20260422T220710
DTSTART:20190428T120000
DTEND:20190428T120000
SUMMARY:Concert pro Arrels Fundació... Dins la cambra del rei...? a càrrec de Lux Fundació
LOCATION:08450 Llinars del Vallès
METHOD:PUBLISH
X-WR-CALNAME:info@llinarsdelvalles.cat
X-WR-TIMEZONE:Europe/Madrid
DESCRIPTION:21è cicle de concerts a Sanata

URI:https://www.llinarsdelvalles.cat/actualitat/agenda/concert-pro-arrels-fundacio-dins-la-cambra-del-rei-a-carrec-de-lux-fundacio.html
CLASS:PUBLIC
END:VEVENT
END:VCALENDAR
