BEGIN:VCALENDAR
VERSION:2.0
CALSCALE:GREGORIAN
PRODID:-//Diputació de Barcelona//DibaCMS//EN
BEGIN:VEVENT
UID:54402
DTSTAMP:20260422T190333
DTSTART:20190616T120000
DTEND:20190616T120000
SUMMARY:Tast de quartets post-romàntics i del segle XX a càrrec de Moana Quartet
LOCATION:08450 Llinars del Vallès
METHOD:PUBLISH
X-WR-CALNAME:info@llinarsdelvalles.cat
X-WR-TIMEZONE:Europe/Madrid
DESCRIPTION:21è cicle de concerts a Sanata.

URI:https://www.llinarsdelvalles.cat/actualitat/agenda/tast-de-quartets-post-romantics-i-del-segle-xx-a-carrec-de-moana-quartet.html
CLASS:PUBLIC
END:VEVENT
END:VCALENDAR
