BEGIN:VCALENDAR
VERSION:2.0
CALSCALE:GREGORIAN
PRODID:-//Diputació de Barcelona//DibaCMS//EN
BEGIN:VEVENT
UID:54411
DTSTAMP:20260425T144207
DTSTART:20190222T190000
DTEND:20190222T190000
SUMMARY:II TAULA RODONA DE JOVENTUT. Vine i digues la teva!
LOCATION:
METHOD:PUBLISH
X-WR-CALNAME:info@llinarsdelvalles.cat
X-WR-TIMEZONE:Europe/Madrid
DESCRIPTION:
URI:https://www.llinarsdelvalles.cat/actualitat/agenda/ii-taula-rodona-de-joventut-vine-i-digues-la-teva.html
CLASS:PUBLIC
END:VEVENT
END:VCALENDAR
