BEGIN:VCALENDAR
VERSION:2.0
CALSCALE:GREGORIAN
PRODID:-//Diputació de Barcelona//DibaCMS//EN
BEGIN:VEVENT
UID:54420
DTSTAMP:20260425T224908
DTSTART:20190301T113000
DTEND:20190301T113000
SUMMARY:4a Gran Ballada de Gitanes de l'escola Damià Mateu
LOCATION:Carrer de Frederic Marés, 52 08450 Llinars del Vallés
METHOD:PUBLISH
X-WR-CALNAME:info@llinarsdelvalles.cat
X-WR-TIMEZONE:Europe/Madrid
DESCRIPTION:Obert a tot el poble

URI:https://www.llinarsdelvalles.cat/actualitat/agenda/4a-gran-ballada-de-gitanes-de-lescola-damia-mateu.html
CLASS:PUBLIC
END:VEVENT
END:VCALENDAR
