BEGIN:VCALENDAR
VERSION:2.0
CALSCALE:GREGORIAN
PRODID:-//Diputació de Barcelona//DibaCMS//EN
BEGIN:VEVENT
UID:54422
DTSTAMP:20260425T161959
DTSTART:20190301T170000
DTEND:20190301T170000
SUMMARY:CARNESTOLTES - Ball de disfresses infantil amb el grup Set de So i xocolatada
LOCATION:Av. Pau Casals, 22-24 (Àrea central) 08450 Llinars del Vallès
METHOD:PUBLISH
X-WR-CALNAME:info@llinarsdelvalles.cat
X-WR-TIMEZONE:Europe/Madrid
DESCRIPTION:
URI:https://www.llinarsdelvalles.cat/actualitat/agenda/carnestoltes-ball-de-disfresses-infantil-amb-el-grup-set-de-so-i-xocolatada.html
CLASS:PUBLIC
END:VEVENT
END:VCALENDAR
