BEGIN:VCALENDAR
VERSION:2.0
CALSCALE:GREGORIAN
PRODID:-//Diputació de Barcelona//DibaCMS//EN
BEGIN:VEVENT
UID:54423
DTSTAMP:20260425T224943
DTSTART:20190302T180000
DTEND:20190302T180000
SUMMARY:CARNESTOLTES - Rua, desfilada, concurs de disfresses, ball, sopar popular i lliurament de premis
LOCATION:
METHOD:PUBLISH
X-WR-CALNAME:info@llinarsdelvalles.cat
X-WR-TIMEZONE:Europe/Madrid
DESCRIPTION:
URI:https://www.llinarsdelvalles.cat/actualitat/agenda/carnestoltes-rua-desfilada-concurs-de-disfresses-ball-sopar-popular-i-lliurament-de-premis.html
CLASS:PUBLIC
END:VEVENT
END:VCALENDAR
