BEGIN:VCALENDAR
VERSION:2.0
CALSCALE:GREGORIAN
PRODID:-//Diputació de Barcelona//DibaCMS//EN
BEGIN:VEVENT
UID:54424
DTSTAMP:20260426T041900
DTSTART:20190303T103000
DTEND:20190303T103000
SUMMARY:XXVIII BALLADA DE GITANES
LOCATION:
METHOD:PUBLISH
X-WR-CALNAME:info@llinarsdelvalles.cat
X-WR-TIMEZONE:Europe/Madrid
DESCRIPTION:
URI:https://www.llinarsdelvalles.cat/actualitat/agenda/xxviii-ballada-de-gitanes.html
CLASS:PUBLIC
END:VEVENT
END:VCALENDAR
