BEGIN:VCALENDAR
VERSION:2.0
CALSCALE:GREGORIAN
PRODID:-//Diputació de Barcelona//DibaCMS//EN
BEGIN:VEVENT
UID:54425
DTSTAMP:20260423T035102
DTSTART:20190308T180000
DTEND:20190308T180000
SUMMARY:BIB-CREA "Allà on viuen els monstres" a càrrec de Glòria Bassa
LOCATION:Av. Pau Casals, 26 08450 Llinars del Vallès
METHOD:PUBLISH
X-WR-CALNAME:info@llinarsdelvalles.cat
X-WR-TIMEZONE:Europe/Madrid
DESCRIPTION:
URI:https://www.llinarsdelvalles.cat/actualitat/agenda/bib-crea-alla-on-viuen-els-monstres-a-carrec-de-gloria-bassa.html
CLASS:PUBLIC
END:VEVENT
END:VCALENDAR
