BEGIN:VCALENDAR
VERSION:2.0
CALSCALE:GREGORIAN
PRODID:-//Diputació de Barcelona//DibaCMS//EN
BEGIN:VEVENT
UID:54426
DTSTAMP:20260425T144348
DTSTART:20190309T093000
DTEND:20190309T210000
SUMMARY:BILLAR Fase de qualificació de Banda de 1a divisió
LOCATION:08450 Llinars del Vallès
METHOD:PUBLISH
X-WR-CALNAME:info@llinarsdelvalles.cat
X-WR-TIMEZONE:Europe/Madrid
DESCRIPTION:
URI:https://www.llinarsdelvalles.cat/actualitat/agenda/billar-fase-de-qualificacio-de-banda-de-1a-divisio.html
CLASS:PUBLIC
END:VEVENT
END:VCALENDAR
