BEGIN:VCALENDAR
VERSION:2.0
CALSCALE:GREGORIAN
PRODID:-//Diputació de Barcelona//DibaCMS//EN
BEGIN:VEVENT
UID:54427
DTSTAMP:20260423T035221
DTSTART:20190309T103000
DTEND:20190309T103000
SUMMARY:CLUB DE LECTURA. GRUP A. "Nos vemos allá arriba" de Pierre Lemaitre.
LOCATION:Av. Pau Casals, 26 08450 Llinars del Vallès
METHOD:PUBLISH
X-WR-CALNAME:info@llinarsdelvalles.cat
X-WR-TIMEZONE:Europe/Madrid
DESCRIPTION:A càrrec de Jose Luis Ibáñez

URI:https://www.llinarsdelvalles.cat/actualitat/agenda/club-de-lectura-grup-a-nos-vemos-alla-arriba-de-pierre-lemaitre.html
CLASS:PUBLIC
END:VEVENT
END:VCALENDAR
