BEGIN:VCALENDAR
VERSION:2.0
CALSCALE:GREGORIAN
PRODID:-//Diputació de Barcelona//DibaCMS//EN
BEGIN:VEVENT
UID:54428
DTSTAMP:20260423T005338
DTSTART:20190309T190000
DTEND:20190309T190000
SUMMARY:Actes entorn al 8 de març, Dia de la Dona Treballadora
LOCATION:Ronda Sant Antoni, 19 08450 Llinars del Vallès
METHOD:PUBLISH
X-WR-CALNAME:info@llinarsdelvalles.cat
X-WR-TIMEZONE:Europe/Madrid
DESCRIPTION:
URI:https://www.llinarsdelvalles.cat/actualitat/agenda/actes-entorn-al-8-de-marc-dia-de-la-dona-treballadora.html
CLASS:PUBLIC
END:VEVENT
END:VCALENDAR
