BEGIN:VCALENDAR
VERSION:2.0
CALSCALE:GREGORIAN
PRODID:-//Diputació de Barcelona//DibaCMS//EN
BEGIN:VEVENT
UID:54429
DTSTAMP:20260423T045706
DTSTART:20190310T103000
DTEND:20190310T103000
SUMMARY:XII Trobada Nacional de la Dona Trabucaire de Catalunya
LOCATION:Plaça dels Països Catalans 
METHOD:PUBLISH
X-WR-CALNAME:info@llinarsdelvalles.cat
X-WR-TIMEZONE:Europe/Madrid
DESCRIPTION:
URI:https://www.llinarsdelvalles.cat/actualitat/agenda/xii-trobada-nacional-de-la-dona-trabucaire-de-catalunya.html
CLASS:PUBLIC
END:VEVENT
END:VCALENDAR
