BEGIN:VCALENDAR
VERSION:2.0
CALSCALE:GREGORIAN
PRODID:-//Diputació de Barcelona//DibaCMS//EN
BEGIN:VEVENT
UID:54431
DTSTAMP:20260425T121929
DTSTART:20190316T093000
DTEND:20190316T210000
SUMMARY:BILLAR Final de Catalunya de Banda de 1a divisió
LOCATION:08450 Llinars del Vallès
METHOD:PUBLISH
X-WR-CALNAME:info@llinarsdelvalles.cat
X-WR-TIMEZONE:Europe/Madrid
DESCRIPTION:
URI:https://www.llinarsdelvalles.cat/actualitat/agenda/billar-final-de-catalunya-de-banda-de-1a-divisio.html
CLASS:PUBLIC
END:VEVENT
END:VCALENDAR
