BEGIN:VCALENDAR
VERSION:2.0
CALSCALE:GREGORIAN
PRODID:-//Diputació de Barcelona//DibaCMS//EN
BEGIN:VEVENT
UID:54433
DTSTAMP:20260423T005303
DTSTART:20190317T100000
DTEND:20190317T140000
SUMMARY:Botigues al carrer
LOCATION:Per diversos carrers del poble 
METHOD:PUBLISH
X-WR-CALNAME:info@llinarsdelvalles.cat
X-WR-TIMEZONE:Europe/Madrid
DESCRIPTION:
URI:https://www.llinarsdelvalles.cat/actualitat/agenda/54433-botigues-al-carrer.html
CLASS:PUBLIC
END:VEVENT
END:VCALENDAR
