BEGIN:VCALENDAR
VERSION:2.0
CALSCALE:GREGORIAN
PRODID:-//Diputació de Barcelona//DibaCMS//EN
BEGIN:VEVENT
UID:54434
DTSTAMP:20260423T050123
DTSTART:20190318T190000
DTEND:20190318T190000
SUMMARY:LLEGIR EL TEATRE “El futur d’Helena Tornero” a càrrec de Cristina Fernández
LOCATION:Av. Pau Casals, 26 08450 Llinars del Vallès
METHOD:PUBLISH
X-WR-CALNAME:info@llinarsdelvalles.cat
X-WR-TIMEZONE:Europe/Madrid
DESCRIPTION:
URI:https://www.llinarsdelvalles.cat/actualitat/agenda/llegir-el-teatre-el-futur-dhelena-tornero-a-carrec-de-cristina-fernandez.html
CLASS:PUBLIC
END:VEVENT
END:VCALENDAR
