BEGIN:VCALENDAR
VERSION:2.0
CALSCALE:GREGORIAN
PRODID:-//Diputació de Barcelona//DibaCMS//EN
BEGIN:VEVENT
UID:54435
DTSTAMP:20260423T035007
DTSTART:20190322T190000
DTEND:20190322T190000
SUMMARY:TALLAR-CONCERT  "Les paraules del vi" a càrrec de de Corrandes són Corrandes
LOCATION:Av. Pau Casals, 26 08450 Llinars del Vallès
METHOD:PUBLISH
X-WR-CALNAME:info@llinarsdelvalles.cat
X-WR-TIMEZONE:Europe/Madrid
DESCRIPTION:
URI:https://www.llinarsdelvalles.cat/actualitat/agenda/tallar-concert-les-paraules-del-vi-a-carrec-de-de-corrandes-son-corrandes.html
CLASS:PUBLIC
END:VEVENT
END:VCALENDAR
