BEGIN:VCALENDAR
VERSION:2.0
CALSCALE:GREGORIAN
PRODID:-//Diputació de Barcelona//DibaCMS//EN
BEGIN:VEVENT
UID:54438
DTSTAMP:20260425T170012
DTSTART:20190329T193000
DTEND:20190329T193000
SUMMARY:PRESENTACIÓ DEL LLIBRE “Llevadores en acció: llevant nadons, lligant melics” a càrrec de l’autora Encarna Gascón Navarro i l’Introducció de l’Associació Dones de Llinars
LOCATION:
METHOD:PUBLISH
X-WR-CALNAME:info@llinarsdelvalles.cat
X-WR-TIMEZONE:Europe/Madrid
DESCRIPTION:
URI:https://www.llinarsdelvalles.cat/actualitat/agenda/presentacio-del-llibre-llevadores-en-accio-llevant-nadons-lligant-melics-a-carrec-de-lautora-encarna-gascon-navarro-i-lintroduccio-de-lassociacio-dones-de-llinars.html
CLASS:PUBLIC
END:VEVENT
END:VCALENDAR
