BEGIN:VCALENDAR
VERSION:2.0
CALSCALE:GREGORIAN
PRODID:-//Diputació de Barcelona//DibaCMS//EN
BEGIN:VEVENT
UID:54441
DTSTAMP:20260423T145632
DTSTART:20190316T100000
DTEND:20190316T100000
SUMMARY:PASSEJADES 2019 - Parc Montnegre i Corredor
LOCATION:
METHOD:PUBLISH
X-WR-CALNAME:info@llinarsdelvalles.cat
X-WR-TIMEZONE:Europe/Madrid
DESCRIPTION:Redescoberta del Poblat Ibèric del Turó del Vent.

URI:https://www.llinarsdelvalles.cat/actualitat/agenda/passejades-2019-parc-montnegre-i-corredor.html
CLASS:PUBLIC
END:VEVENT
END:VCALENDAR
