BEGIN:VCALENDAR
VERSION:2.0
CALSCALE:GREGORIAN
PRODID:-//Diputació de Barcelona//DibaCMS//EN
BEGIN:VEVENT
UID:54451
DTSTAMP:20260425T172610
DTSTART:20190307T171500
DTEND:20190307T171500
SUMMARY:En Clau de DO-NA
LOCATION:Carrer Còrsega, 10 (Can Moix) 08450 Llinars del Vallès
METHOD:PUBLISH
X-WR-CALNAME:info@llinarsdelvalles.cat
X-WR-TIMEZONE:Europe/Madrid
DESCRIPTION:En motiu de la Setmana de la Dona Creadora, l’Escola de Música ens ofereixen un viatge per la història de la música explicant el paper que han tingut les dones.

A les 17.15 i a les 18 h

URI:https://www.llinarsdelvalles.cat/actualitat/agenda/en-clau-de-do-na.html
CLASS:PUBLIC
END:VEVENT
END:VCALENDAR
