BEGIN:VCALENDAR
VERSION:2.0
CALSCALE:GREGORIAN
PRODID:-//Diputació de Barcelona//DibaCMS//EN
BEGIN:VEVENT
UID:54461
DTSTAMP:20260425T222356
DTSTART:20190412T190000
DTEND:20190412T190000
SUMMARY:Assaig general de L'ÚLTIM INDI el primer disc en solitari d'Eduard Costa
LOCATION:Ronda Sant Antoni, 19 08450 Llinars del Vallès
METHOD:PUBLISH
X-WR-CALNAME:info@llinarsdelvalles.cat
X-WR-TIMEZONE:Europe/Madrid
DESCRIPTION:
URI:https://www.llinarsdelvalles.cat/actualitat/agenda/assaig-general-de-lultim-indi-el-primer-disc-en-solitari-deduard-costa.html
CLASS:PUBLIC
END:VEVENT
END:VCALENDAR
