BEGIN:VCALENDAR
VERSION:2.0
CALSCALE:GREGORIAN
PRODID:-//Diputació de Barcelona//DibaCMS//EN
BEGIN:VEVENT
UID:54465
DTSTAMP:20260423T005403
DTSTART:20190330T110000
DTEND:20190330T110000
SUMMARY:Taller de veu, percusió i dansa DUNDUMBA a càrrec d'Asu Baba Aio io
LOCATION:Ronda Sant Antoni, 19 08450 Llinars del Vallès
METHOD:PUBLISH
X-WR-CALNAME:info@llinarsdelvalles.cat
X-WR-TIMEZONE:Europe/Madrid
DESCRIPTION:
URI:https://www.llinarsdelvalles.cat/actualitat/agenda/taller-de-veu-percusio-i-dansa-dundumba-a-carrec-dasu-baba-aio-io.html
CLASS:PUBLIC
END:VEVENT
END:VCALENDAR
