BEGIN:VCALENDAR
VERSION:2.0
CALSCALE:GREGORIAN
PRODID:-//Diputació de Barcelona//DibaCMS//EN
BEGIN:VEVENT
UID:54470
DTSTAMP:20260422T232450
DTSTART:20190531T193000
DTEND:20190531T193000
SUMMARY:Vetllades musicals
LOCATION:Carrer Còrsega, 10 (Can Moix) 08450 Llinars del Vallès
METHOD:PUBLISH
X-WR-CALNAME:info@llinarsdelvalles.cat
X-WR-TIMEZONE:Europe/Madrid
DESCRIPTION:
URI:https://www.llinarsdelvalles.cat/actualitat/agenda/vetllades-musicals.html
CLASS:PUBLIC
END:VEVENT
END:VCALENDAR
