BEGIN:VCALENDAR
VERSION:2.0
CALSCALE:GREGORIAN
PRODID:-//Diputació de Barcelona//DibaCMS//EN
BEGIN:VEVENT
UID:54476
DTSTAMP:20260423T005236
DTSTART:20190324T113000
DTEND:20190324T123000
SUMMARY:TALLER FAMILIAR “La vida del llop a l’abast de tothom”
LOCATION:C/ Josep Argila, 39 08450 Llinars del Vallés
METHOD:PUBLISH
X-WR-CALNAME:info@llinarsdelvalles.cat
X-WR-TIMEZONE:Europe/Madrid
DESCRIPTION:
URI:https://www.llinarsdelvalles.cat/actualitat/agenda/54476-taller-familiar-la-vida-del-llop-a-labast-de-tothom.html
CLASS:PUBLIC
END:VEVENT
END:VCALENDAR
