BEGIN:VCALENDAR
VERSION:2.0
CALSCALE:GREGORIAN
PRODID:-//Diputació de Barcelona//DibaCMS//EN
BEGIN:VEVENT
UID:54477
DTSTAMP:20260425T222615
DTSTART:20190405T080000
DTEND:20190405T143000
SUMMARY:DIA MUNDIAL de l'Activitat Física
LOCATION:Plaça dels Països Catalans 
METHOD:PUBLISH
X-WR-CALNAME:info@llinarsdelvalles.cat
X-WR-TIMEZONE:Europe/Madrid
DESCRIPTION:
URI:https://www.llinarsdelvalles.cat/actualitat/agenda/54477-dia-mundial-de-lactivitat-fisica.html
CLASS:PUBLIC
END:VEVENT
END:VCALENDAR
