BEGIN:VCALENDAR
VERSION:2.0
CALSCALE:GREGORIAN
PRODID:-//Diputació de Barcelona//DibaCMS//EN
BEGIN:VEVENT
UID:54505
DTSTAMP:20260422T220721
DTSTART:20190506T173000
DTEND:20190506T190000
SUMMARY:CURS de puntes de coixí
LOCATION:C/ Mas Bagà, 24 08450 Llinars del Vallés
METHOD:PUBLISH
X-WR-CALNAME:info@llinarsdelvalles.cat
X-WR-TIMEZONE:Europe/Madrid
DESCRIPTION:
URI:https://www.llinarsdelvalles.cat/actualitat/agenda/54505-curs-de-puntes-de-coixi.html
CLASS:PUBLIC
END:VEVENT
END:VCALENDAR
